BEGIN:VCALENDAR
VERSION:2.0
PRODID:-//Tahoe Ice Arena - ECPv6.15.20//NONSGML v1.0//EN
CALSCALE:GREGORIAN
METHOD:PUBLISH
X-WR-CALNAME:Tahoe Ice Arena
X-ORIGINAL-URL:https://tahoeicearena.com
X-WR-CALDESC:Events for Tahoe Ice Arena
REFRESH-INTERVAL;VALUE=DURATION:PT1H
X-Robots-Tag:noindex
X-PUBLISHED-TTL:PT1H
BEGIN:VTIMEZONE
TZID:America/Los_Angeles
BEGIN:DAYLIGHT
TZOFFSETFROM:-0800
TZOFFSETTO:-0700
TZNAME:PDT
DTSTART:20250309T100000
END:DAYLIGHT
BEGIN:STANDARD
TZOFFSETFROM:-0700
TZOFFSETTO:-0800
TZNAME:PST
DTSTART:20251102T090000
END:STANDARD
BEGIN:DAYLIGHT
TZOFFSETFROM:-0800
TZOFFSETTO:-0700
TZNAME:PDT
DTSTART:20260308T100000
END:DAYLIGHT
BEGIN:STANDARD
TZOFFSETFROM:-0700
TZOFFSETTO:-0800
TZNAME:PST
DTSTART:20261101T090000
END:STANDARD
BEGIN:DAYLIGHT
TZOFFSETFROM:-0800
TZOFFSETTO:-0700
TZNAME:PDT
DTSTART:20270314T100000
END:DAYLIGHT
BEGIN:STANDARD
TZOFFSETFROM:-0700
TZOFFSETTO:-0800
TZNAME:PST
DTSTART:20271107T090000
END:STANDARD
END:VTIMEZONE
BEGIN:VEVENT
DTSTART;TZID=America/Los_Angeles:20260421T080000
DTEND;TZID=America/Los_Angeles:20260421T091500
DTSTAMP:20260421T032135
CREATED:20260403T174453Z
LAST-MODIFIED:20260403T174502Z
UID:14104-1776758400-1776762900@tahoeicearena.com
SUMMARY:THA Practice
DESCRIPTION:
URL:https://tahoeicearena.com/event/tha-practice-673/
END:VEVENT
BEGIN:VEVENT
DTSTART;TZID=America/Los_Angeles:20260421T093000
DTEND;TZID=America/Los_Angeles:20260421T104500
DTSTAMP:20260421T032135
CREATED:20260403T174456Z
LAST-MODIFIED:20260403T174502Z
UID:14105-1776763800-1776768300@tahoeicearena.com
SUMMARY:THA Practice
DESCRIPTION:
URL:https://tahoeicearena.com/event/tha-practice-674/
END:VEVENT
BEGIN:VEVENT
DTSTART;TZID=America/Los_Angeles:20260421T123000
DTEND;TZID=America/Los_Angeles:20260421T153000
DTSTAMP:20260421T032135
CREATED:20260403T174458Z
LAST-MODIFIED:20260403T174502Z
UID:14106-1776774600-1776785400@tahoeicearena.com
SUMMARY:Public Session
DESCRIPTION:
URL:https://tahoeicearena.com/event/public-session-293/
END:VEVENT
BEGIN:VEVENT
DTSTART;TZID=America/Los_Angeles:20260421T161500
DTEND;TZID=America/Los_Angeles:20260421T171500
DTSTAMP:20260421T032135
CREATED:20260403T174501Z
LAST-MODIFIED:20260403T174501Z
UID:14114-1776788100-1776791700@tahoeicearena.com
SUMMARY:Sticktime
DESCRIPTION:
URL:https://tahoeicearena.com/event/sticktime-352/
END:VEVENT
BEGIN:VEVENT
DTSTART;TZID=America/Los_Angeles:20260421T200000
DTEND;TZID=America/Los_Angeles:20260421T212000
DTSTAMP:20260421T032135
CREATED:20260403T174504Z
LAST-MODIFIED:20260403T174504Z
UID:14117-1776801600-1776806400@tahoeicearena.com
SUMMARY:Adult Hockey
DESCRIPTION:
URL:https://tahoeicearena.com/event/adult-hockey-11/
END:VEVENT
END:VCALENDAR